{ "currentVersion": 10.91, "cimVersion": "2.9.0", "serviceDescription": "
Map service displaying the latest aerial imagery projected in UTM Zone 15 North. <\/SPAN><\/P><\/DIV>",
"mapName": "OrthosUTM",
"description": " Map service displaying the latest aerial imagery projected in UTM Zone 15 North. <\/SPAN><\/P><\/DIV>",
"copyrightText": "",
"supportsDynamicLayers": true,
"layers": [
{
"id": 0,
"name": "Orthos2023",
"parentLayerId": -1,
"defaultVisibility": true,
"subLayerIds": [
1,
2,
3
],
"minScale": 0,
"maxScale": 0,
"type": "Mosaic Layer",
"supportsDynamicLegends": false
},
{
"id": 1,
"name": "Boundary",
"parentLayerId": 0,
"defaultVisibility": false,
"subLayerIds": null,
"minScale": 0,
"maxScale": 0,
"type": "Feature Layer",
"geometryType": "esriGeometryPolygon",
"supportsDynamicLegends": true
},
{
"id": 2,
"name": "Footprint",
"parentLayerId": 0,
"defaultVisibility": false,
"subLayerIds": null,
"minScale": 0,
"maxScale": 0,
"type": "Feature Layer",
"geometryType": "esriGeometryPolygon",
"supportsDynamicLegends": true
},
{
"id": 3,
"name": "Image",
"parentLayerId": 0,
"defaultVisibility": true,
"subLayerIds": null,
"minScale": 0,
"maxScale": 0,
"type": "Raster Layer",
"supportsDynamicLegends": true
}
],
"tables": [],
"spatialReference": {
"wkid": 26915,
"latestWkid": 26915,
"xyTolerance": 0.001,
"zTolerance": 0.001,
"mTolerance": 0.001,
"falseX": -5120900,
"falseY": -9998100,
"xyUnits": 10000,
"falseZ": -100000,
"zUnits": 10000,
"falseM": -100000,
"mUnits": 10000
},
"singleFusedMapCache": true,
"tileInfo": {
"rows": 256,
"cols": 256,
"dpi": 96,
"format": "MIXED",
"compressionQuality": 75,
"origin": {
"x": -5120900,
"y": 9998100
},
"spatialReference": {
"wkid": 26915,
"latestWkid": 26915,
"xyTolerance": 0.001,
"zTolerance": 0.001,
"mTolerance": 0.001,
"falseX": -5120900,
"falseY": -9998100,
"xyUnits": 10000,
"falseZ": -100000,
"zUnits": 10000,
"falseM": -100000,
"mUnits": 10000
},
"lods": [
{
"level": 0,
"resolution": 40.64008128016256,
"scale": 153600
},
{
"level": 1,
"resolution": 20.32004064008128,
"scale": 76800
},
{
"level": 2,
"resolution": 10.16002032004064,
"scale": 38400
},
{
"level": 3,
"resolution": 5.08001016002032,
"scale": 19200
},
{
"level": 4,
"resolution": 2.54000508001016,
"scale": 9600
},
{
"level": 5,
"resolution": 1.27000254000508,
"scale": 4800
},
{
"level": 6,
"resolution": 0.63500127000254,
"scale": 2400
},
{
"level": 7,
"resolution": 0.31750063500127,
"scale": 1200
},
{
"level": 8,
"resolution": 0.158750317500635,
"scale": 600
},
{
"level": 9,
"resolution": 0.0793751587503175,
"scale": 300
}
]
},
"storageInfo": {
"storageFormat": "esriMapCacheStorageModeCompactV2",
"packetSize": 128
},
"initialExtent": {
"xmin": 454121.86660561286,
"ymin": 4963437.2854022635,
"xmax": 500370.27910243854,
"ymax": 4996965.352458398,
"spatialReference": {
"wkid": 26915,
"latestWkid": 26915,
"xyTolerance": 0.001,
"zTolerance": 0.001,
"mTolerance": 0.001,
"falseX": -5120900,
"falseY": -9998100,
"xyUnits": 10000,
"falseZ": -100000,
"zUnits": 10000,
"falseM": -100000,
"mUnits": 10000
}
},
"fullExtent": {
"xmin": 471110.41,
"ymin": 4968625.82,
"xmax": 486057.43,
"ymax": 4991325.72,
"spatialReference": {
"wkid": 26915,
"latestWkid": 26915,
"xyTolerance": 0.001,
"zTolerance": 0.001,
"mTolerance": 0.001,
"falseX": -5120900,
"falseY": -9998100,
"xyUnits": 10000,
"falseZ": -100000,
"zUnits": 10000,
"falseM": -100000,
"mUnits": 10000
}
},
"datesInUnknownTimezone": false,
"minScale": 153600,
"maxScale": 9600,
"minLOD": 0,
"maxLOD": 4,
"units": "esriMeters",
"supportedImageFormatTypes": "PNG32,PNG24,PNG,JPG,DIB,TIFF,EMF,PS,PDF,GIF,SVG,SVGZ,BMP",
"documentInfo": {
"Title": "msvcOrthosUTM_v2",
"Author": "",
"Comments": " Map service displaying the latest aerial imagery projected in UTM Zone 15 North. <\/SPAN><\/P><\/DIV>",
"Subject": "Map service displaying the latest aerial imagery for Minneapolis.",
"Category": "",
"AntialiasingMode": "Fast",
"TextAntialiasingMode": "Force",
"Version": "2.9.0",
"Keywords": "Minneapolis,Imagery"
},
"capabilities": "Query,Map,Data",
"supportedQueryFormats": "JSON, geoJSON, PBF",
"exportTilesAllowed": false,
"referenceScale": 0.0,
"datumTransformations": [
{
"geoTransforms": [
{
"wkt": "GEOGTRAN[\"HennCO to WGS84\",GEOGCS[\"GCS_NAD_1983_HARN_Adj_MN_Hennepin\",DATUM[\"D_NAD_1983_HARN_Adj_MN_Hennepin\",SPHEROID[\"S_GRS_1980_Adj_MN_Hennepin\",6378418.941,298.2572221008827]],PRIMEM[\"Greenwich\",0.0],UNIT[\"Degree\",0.0174532925199433]],GEOGCS[\"GCS_WGS_1984\",DATUM[\"D_WGS_1984\",SPHEROID[\"WGS_1984\",6378137.0,298.257223563]],PRIMEM[\"Greenwich\",0.0],UNIT[\"Degree\",0.0174532925199433]],METHOD[\"Null\"]]",
"transformForward": false,
"name": "HennCO to WGS84"
},
{
"wkt": "GEOGTRAN[\"HC HARN to UTM Z15 N\",GEOGCS[\"GCS_NAD_1983_HARN_Adj_MN_Hennepin\",DATUM[\"D_NAD_1983_HARN_Adj_MN_Hennepin\",SPHEROID[\"S_GRS_1980_Adj_MN_Hennepin\",6378418.941,298.2572221008827]],PRIMEM[\"Greenwich\",0.0],UNIT[\"Degree\",0.0174532925199433]],GEOGCS[\"GCS_North_American_1983\",DATUM[\"D_North_American_1983\",SPHEROID[\"GRS_1980\",6378137.0,298.257222101]],PRIMEM[\"Greenwich\",0.0],UNIT[\"Degree\",0.0174532925199433]],METHOD[\"Null\"]]",
"transformForward": true,
"name": "HC HARN to UTM Z15 N"
}
]
},
{
"geoTransforms": [
{
"wkt": "GEOGTRAN[\"HC HARN to UTM Z15 N\",GEOGCS[\"GCS_NAD_1983_HARN_Adj_MN_Hennepin\",DATUM[\"D_NAD_1983_HARN_Adj_MN_Hennepin\",SPHEROID[\"S_GRS_1980_Adj_MN_Hennepin\",6378418.941,298.2572221008827]],PRIMEM[\"Greenwich\",0.0],UNIT[\"Degree\",0.0174532925199433]],GEOGCS[\"GCS_North_American_1983\",DATUM[\"D_North_American_1983\",SPHEROID[\"GRS_1980\",6378137.0,298.257222101]],PRIMEM[\"Greenwich\",0.0],UNIT[\"Degree\",0.0174532925199433]],METHOD[\"Null\"]]",
"transformForward": false,
"name": "HC HARN to UTM Z15 N"
},
{
"wkt": "GEOGTRAN[\"HennCO to WGS84\",GEOGCS[\"GCS_NAD_1983_HARN_Adj_MN_Hennepin\",DATUM[\"D_NAD_1983_HARN_Adj_MN_Hennepin\",SPHEROID[\"S_GRS_1980_Adj_MN_Hennepin\",6378418.941,298.2572221008827]],PRIMEM[\"Greenwich\",0.0],UNIT[\"Degree\",0.0174532925199433]],GEOGCS[\"GCS_WGS_1984\",DATUM[\"D_WGS_1984\",SPHEROID[\"WGS_1984\",6378137.0,298.257223563]],PRIMEM[\"Greenwich\",0.0],UNIT[\"Degree\",0.0174532925199433]],METHOD[\"Null\"]]",
"transformForward": true,
"name": "HennCO to WGS84"
}
]
},
{
"geoTransforms": [
{
"wkt": "GEOGTRAN[\"HennCO to WGS84\",GEOGCS[\"GCS_NAD_1983_HARN_Adj_MN_Hennepin\",DATUM[\"D_NAD_1983_HARN_Adj_MN_Hennepin\",SPHEROID[\"S_GRS_1980_Adj_MN_Hennepin\",6378418.941,298.2572221008827]],PRIMEM[\"Greenwich\",0.0],UNIT[\"Degree\",0.0174532925199433]],GEOGCS[\"GCS_WGS_1984\",DATUM[\"D_WGS_1984\",SPHEROID[\"WGS_1984\",6378137.0,298.257223563]],PRIMEM[\"Greenwich\",0.0],UNIT[\"Degree\",0.0174532925199433]],METHOD[\"Null\"]]",
"transformForward": false,
"name": "HennCO to WGS84"
},
{
"wkt": "GEOGTRAN[\"HC HARN to UTM Z15 N\",GEOGCS[\"GCS_NAD_1983_HARN_Adj_MN_Hennepin\",DATUM[\"D_NAD_1983_HARN_Adj_MN_Hennepin\",SPHEROID[\"S_GRS_1980_Adj_MN_Hennepin\",6378418.941,298.2572221008827]],PRIMEM[\"Greenwich\",0.0],UNIT[\"Degree\",0.0174532925199433]],GEOGCS[\"GCS_North_American_1983\",DATUM[\"D_North_American_1983\",SPHEROID[\"GRS_1980\",6378137.0,298.257222101]],PRIMEM[\"Greenwich\",0.0],UNIT[\"Degree\",0.0174532925199433]],METHOD[\"Null\"]]",
"transformForward": true,
"name": "HC HARN to UTM Z15 N"
}
]
},
{
"geoTransforms": [
{
"wkt": "GEOGTRAN[\"HC HARN to UTM Z15 N\",GEOGCS[\"GCS_NAD_1983_HARN_Adj_MN_Hennepin\",DATUM[\"D_NAD_1983_HARN_Adj_MN_Hennepin\",SPHEROID[\"S_GRS_1980_Adj_MN_Hennepin\",6378418.941,298.2572221008827]],PRIMEM[\"Greenwich\",0.0],UNIT[\"Degree\",0.0174532925199433]],GEOGCS[\"GCS_North_American_1983\",DATUM[\"D_North_American_1983\",SPHEROID[\"GRS_1980\",6378137.0,298.257222101]],PRIMEM[\"Greenwich\",0.0],UNIT[\"Degree\",0.0174532925199433]],METHOD[\"Null\"]]",
"transformForward": false,
"name": "HC HARN to UTM Z15 N"
},
{
"wkt": "GEOGTRAN[\"HennCO to WGS84\",GEOGCS[\"GCS_NAD_1983_HARN_Adj_MN_Hennepin\",DATUM[\"D_NAD_1983_HARN_Adj_MN_Hennepin\",SPHEROID[\"S_GRS_1980_Adj_MN_Hennepin\",6378418.941,298.2572221008827]],PRIMEM[\"Greenwich\",0.0],UNIT[\"Degree\",0.0174532925199433]],GEOGCS[\"GCS_WGS_1984\",DATUM[\"D_WGS_1984\",SPHEROID[\"WGS_1984\",6378137.0,298.257223563]],PRIMEM[\"Greenwich\",0.0],UNIT[\"Degree\",0.0174532925199433]],METHOD[\"Null\"]]",
"transformForward": true,
"name": "HennCO to WGS84"
}
]
}
],
"supportsDatumTransformation": true,
"floorAwareMapProperties": {
"defaultFloorFilterSettings": {"isEnabled": false}
},
"archivingInfo": {"supportsHistoricMoment": false},
"supportsClipping": true,
"supportsSpatialFilter": true,
"supportsTimeRelation": true,
"supportsQueryDataElements": true,
"maxRecordCount": 2000,
"maxImageHeight": 4096,
"maxImageWidth": 4096,
"supportedExtensions": "WMSServer"
}